BEGIN:VCALENDAR
VERSION:2.0
PRODID:-//ChamberMaster//Event Calendar 2.0//EN
METHOD:PUBLISH
X-PUBLISHED-TTL:P3D
REFRESH-INTERVAL:P3D
CALSCALE:GREGORIAN
BEGIN:VEVENT
DTSTART:20260922T074500Z
DTEND:20260922T130000Z
X-MICROSOFT-CDO-ALLDAYEVENT:FALSE
SUMMARY:South Yorkshire International Trade Conference
DESCRIPTION:The 2026 South Yorkshire International Trade Conference (SYITC) is back!\n\nJoin industry leaders\, policymakers\, and trade experts at this premier event\, designed to help businesses expand into overseas markets while navigating an evolving global regulatory landscape.\n\nThis year's conference places a special focus on the Carbon Border Adjustment Mechanism (CBAM) and its growing impact on international trade. It will also explore how to grow exports amid geopolitical uncertainty and highlight how the Sheffield International Trade Centre and Sheffield Chamber of Commerce are collaborating with local\, national\, and international stakeholders to sustain and strengthen South Yorkshire's global ambitions.\n\nJoin us for an informative day dedicated to empowering South Yorkshire organisations to succeed in international trade. Whether you're looking to expand globally\, optimise your import/export strategies\, or gain insights from industry leaders\, SYITC 2026 is a must-attend event.\n\n\n	Exclusive knowledge sharing   Learn from leading experts about the latest trends\, challenges\, and opportunities in international trade.\n	Exhibitor showcase   Discover 16+ organisations offering solutions to enhance your trade operations.\n	Keynotes\, Q&A\, and discussions   Gain insights from 9+ guest speakers\, including government and industry leaders\, on critical trade topics.\n	Networking opportunities   Connect with fellow delegates\, industry specialists\, and international businesses to build valuable partnerships.\n	Hospitality   Enjoy complimentary refreshments and lunch.\n\n\nConfirmed Speakers:\n\nMayor Oliver Coppard\n\nSouth Yorkshire's Mayor\n\nJerry Cheung\n\nManaging Director\, New Era Development\n\nPresident\, Sheffield Chamber of Commerce\n\nLouisa Harrison-Walker OBE\n\nChief Executive\, Sheffield Chamber of Commerce\n\nSteven Lynch\n\nDirector of International Trade\, British Chambers of Commerce\n\nAnne-Marie Martin\n\nDirector of Membership UK & International\, British Chambers of Commerce\n\nEve Halliday\n\nCustoms Specialist\, British Chambers of Commerce\n\nNick Patrick\n\nDirector of International Trade\, Sheffield International Trade Centre
X-ALT-DESC;FMTTYPE=text/html:<p><strong>The 2026 South Yorkshire International Trade Conference (SYITC) is back!</strong></p>\n\n<p>Join industry leaders\, policymakers\, and trade experts at this premier event\, designed to help businesses expand into overseas markets while navigating an evolving global regulatory landscape.</p>\n\n<p>This year&rsquo\;s conference places a special focus on the Carbon Border Adjustment Mechanism (CBAM) and its growing impact on international trade. It will also explore how to grow exports amid geopolitical uncertainty and highlight how the Sheffield International Trade Centre and Sheffield Chamber of Commerce are collaborating with local\, national\, and international stakeholders to sustain and strengthen South Yorkshire&rsquo\;s global ambitions.</p>\n\n<p>Join us for an informative day dedicated to empowering South Yorkshire organisations to succeed in international trade. Whether you&rsquo\;re looking to expand globally\, optimise your import/export strategies\, or gain insights from industry leaders\, SYITC 2026 is a must-attend event.</p>\n\n<ul data-end="1759" data-start="1144">\n	<li>Exclusive knowledge sharing&nbsp\;&ndash\; Learn from leading experts about the latest trends\, challenges\, and opportunities in international trade.</li>\n	<li>Exhibitor showcase&nbsp\;&ndash\; Discover 16+ organisations offering solutions to enhance your trade operations.</li>\n	<li>Keynotes\, Q&amp\;A\, and discussions&nbsp\;&ndash\; Gain insights from 9+ guest speakers\, including government and industry leaders\, on critical trade topics.</li>\n	<li>Networking opportunities&nbsp\;&ndash\; Connect with fellow delegates\, industry specialists\, and international businesses to build valuable partnerships.</li>\n	<li>Hospitality&nbsp\;&ndash\; Enjoy complimentary refreshments and lunch.</li>\n</ul>\n\n<h3><strong>Confirmed Speakers:</strong></h3>\n\n<p><strong>Mayor Oliver Coppard</strong><br />\nSouth Yorkshire&rsquo\;s Mayor</p>\n\n<p><strong>Jerry Cheung</strong><br />\nManaging Director\, New Era Development<br />\nPresident\, Sheffield Chamber of Commerce</p>\n\n<p><strong>Louisa Harrison-Walker OBE</strong><br />\nChief Executive\,&nbsp\;Sheffield Chamber of Commerce</p>\n\n<p>Steven Lynch<br />\nDirector of International Trade\,&nbsp\;British Chambers of Commerce</p>\n\n<p><strong>Anne-Marie Martin</strong><br />\nDirector of Membership UK &amp\; International\,&nbsp\;British Chambers of Commerce</p>\n\n<p><strong>Eve Halliday</strong><br />\nCustoms Specialist\,&nbsp\;British Chambers of Commerce</p>\n\n<p><strong>Nick Patrick</strong><br />\nDirector of International Trade\,&nbsp\;Sheffield International Trade Centre</p>\n
LOCATION:Millennium Gallery 48 Arundel Gate Sheffield S1 2PP
UID:e.3320.12361
SEQUENCE:3
DTSTAMP:20260421T182605Z
URL:https://business.doncaster-chamber.co.uk/events/details/south-yorkshire-international-trade-conference-12361
END:VEVENT

END:VCALENDAR
