BEGIN:VCALENDAR
VERSION:2.0
PRODID:-//ChamberMaster//Event Calendar 2.0//EN
METHOD:PUBLISH
X-PUBLISHED-TTL:P3D
REFRESH-INTERVAL:P3D
CALSCALE:GREGORIAN
BEGIN:VEVENT
DTSTART:20260408T083000Z
DTEND:20260408T113000Z
X-MICROSOFT-CDO-ALLDAYEVENT:FALSE
SUMMARY:Neurodiversity in Business - Practical Tools That Actually Work - Launchpad Workshop
DESCRIPTION:This workshop provides practical\, accessible support for business owners and professionals to understand neurodiversity in a business context and learn how to work more effectively with different ways of thinking.\n\n\n\nThe session is designed for neurodivergent individuals (diagnosed or undiagnosed) and for those who want to better understand and support neurodivergent people within their businesses or teams. It focuses on real-world application rather than theory\, with tools and strategies that can be implemented immediately.\n\n\n\nWhat the Workshop Covers\n\n\n	A clear\, plain-English introduction to neurodiversity and what it includes\n	Key differences between neurodivergent and neurotypical ways of thinking\n	How neurodiversity can show up in business\, including:\n	\n		task initiation and procrastination\n		time blindness and time urgency\n		prioritisation challenges\n		fluctuating focus\, energy and motivation\n	\n	\n	Why traditional productivity and time-management advice often doesn't work for everyone\n	Practical\, neurodiversity-friendly strategies for:\n	\n		managing time and tasks\n		breaking work down to reduce overwhelm\n		planning realistically around capacity\n		building a flexible toolkit rather than relying on one system\n	\n	\n	The impact of language on confidence and wellbeing:\n	\n		helpful vs unhelpful language around neurodiversity\n	\n	\n	Practical guidance on:\n	\n		asking for support clearly and confidently\n		offering support in a respectful\, neuro-affirming way \n	\n	\n\nAttendees will:\n\n\n	Gain a clearer understanding of how different brains work in a business environment\n	Feel less self-judgement and frustration around how they work\n	Learn practical tools to improve productivity without burnout\n	Feel more confident adapting their approach to work rather than forcing themselves into systems that don't fit\n	Develop better communication and support strategies within their business or team\n	Leave with actionable insights they can apply immediately\n\nHosted by Bree Fox of Bree Fox Ltd\n\n \n\nLaunchpad Doncaster provides fully funded support to Individuals and businesses in Doncaster. Launchpad Doncaster is delivered by Business Doncaster and Doncaster Chamber. It brings together a wide range of business start up and support services including workshops\, events and one to one support from business advisors.
X-ALT-DESC;FMTTYPE=text/html:<p><span style="font-size:14px\;">This workshop provides practical\, accessible support for business owners and professionals to understand neurodiversity in a business context and learn how to work more effectively with different ways of thinking.<br />\n<br />\nThe session is designed for neurodivergent individuals (diagnosed or undiagnosed) and for those who want to better understand and support neurodivergent people within their businesses or teams. It focuses on real-world application rather than theory\, with tools and strategies that can be implemented immediately.</span><br />\n<br />\n<span style="font-size:14px\;"><strong>What the Workshop Covers</strong></span></p>\n\n<ul>\n	<li>A clear\, plain-English introduction to neurodiversity and what it includes</li>\n	<li>Key differences between neurodivergent and neurotypical ways of thinking</li>\n	<li>How neurodiversity can show up in business\, including:\n	<ul>\n		<li>task initiation and procrastination</li>\n		<li>time blindness and time urgency</li>\n		<li>prioritisation challenges</li>\n		<li>fluctuating focus\, energy and motivation</li>\n	</ul>\n	</li>\n	<li>Why traditional productivity and time-management advice often doesn&rsquo\;t work for everyone</li>\n	<li>Practical\, neurodiversity-friendly strategies for:\n	<ul>\n		<li>managing time and tasks</li>\n		<li>breaking work down to reduce overwhelm</li>\n		<li>planning realistically around capacity</li>\n		<li>building a flexible toolkit rather than relying on one system</li>\n	</ul>\n	</li>\n	<li>The impact of language on confidence and wellbeing:\n	<ul>\n		<li>helpful vs unhelpful language around neurodiversity</li>\n	</ul>\n	</li>\n	<li>Practical guidance on:\n	<ul>\n		<li>asking for support clearly and confidently</li>\n		<li>offering support in a respectful\, neuro-affirming way&nbsp\;</li>\n	</ul>\n	</li>\n</ul>\n<strong><span style="font-size:14px\;">Attendees will:</span></strong>\n\n<ul>\n	<li>Gain a clearer understanding of how different brains work in a business environment</li>\n	<li>Feel less self-judgement and frustration around how they work</li>\n	<li>Learn practical tools to improve productivity without burnout</li>\n	<li>Feel more confident adapting their approach to work rather than forcing themselves into systems that don&rsquo\;t fit</li>\n	<li>Develop better communication and support strategies within their business or team</li>\n	<li>Leave with actionable insights they can apply immediately</li>\n</ul>\nHosted by Bree Fox of Bree Fox Ltd\n\n<p>&nbsp\;</p>\n\n<p><em><span style="color: black\;">Launchpad Doncaster provides fully funded support to Individuals and businesses in Doncaster. Launchpad Doncaster is delivered by Business Doncaster and Doncaster Chamber. It&nbsp\;brings together a wide range of business start up and support services including workshops\, events and one to one support from business advisors.</span></em></p>\n
LOCATION:Flourish Enterprises St Catherine's House\, Woodfield Park Tickhill Road\, Balby Doncaster\, DN4 8QP
UID:e.3320.11295
SEQUENCE:3
DTSTAMP:20260423T101422Z
URL:https://business.doncaster-chamber.co.uk/events/details/neurodiversity-in-business-practical-tools-that-actually-work-launchpad-workshop-11295
END:VEVENT

END:VCALENDAR
