BEGIN:VCALENDAR
VERSION:2.0
PRODID:-//ChamberMaster//Event Calendar 2.0//EN
METHOD:PUBLISH
X-PUBLISHED-TTL:P3D
REFRESH-INTERVAL:P3D
CALSCALE:GREGORIAN
BEGIN:VEVENT
DTSTART:20260204T000000Z
DTEND:20260204T000000Z
X-MICROSOFT-CDO-ALLDAYEVENT:FALSE
SUMMARY:Mental health\, Suicide Intervention\, Neurodiversity\, and Manager Training from Mind Matters!
DESCRIPTION:Mind Matters came into being in 2015 as a result of its Director Jane McNeice's lived experience and wanting to make a positive difference to others. \n\n\n\nMind Matters offers a range of training in mental health\, for both adults and young people\, including Mental Health First Aid\, Suicide First Aid\, Thrive Neurodiversity training\, and others. Mind Matters supports all industies and workplaces\, large or small\, private\, public\, or voluntary and community sector\, and also provides courses to communities.\n\n\n\nWe can support you and your team to support yourselves and each other effectively via our range of evidence based internationally recognised accredited courses.
X-ALT-DESC;FMTTYPE=text/html:<p>Mind Matters came into being in 2015 as a result of its Director Jane McNeice&rsquo\;s lived experience and wanting to make a positive difference to others.&nbsp\;<br />\n<br />\nMind Matters offers a range of training in mental health\, for both adults and young people\, including Mental Health First Aid\, Suicide First Aid\, Thrive Neurodiversity training\, and others. Mind Matters supports all industies and workplaces\, large or small\, private\, public\, or voluntary and community sector\, and also provides courses to communities.<br />\n<br />\nWe can support you and your team to support yourselves and each other effectively via our range of evidence based internationally recognised accredited courses.</p>\n
LOCATION:Our courses take place both online and face-to-face\, and we can also offer closed courses in-house at a location of your choice. Please contact us if you would like to discuss and in-house booking.
UID:e.3320.10438
SEQUENCE:3
DTSTAMP:20260419T133244Z
URL:https://business.doncaster-chamber.co.uk/events/details/mental-health-suicide-intervention-neurodiversity-and-manager-training-from-mind-matters-02-04-2026-10438
END:VEVENT

END:VCALENDAR
