BEGIN:VCALENDAR
VERSION:2.0
PRODID:-//ChamberMaster//Event Calendar 2.0//EN
METHOD:PUBLISH
X-PUBLISHED-TTL:P3D
REFRESH-INTERVAL:P3D
CALSCALE:GREGORIAN
BEGIN:VEVENT
DTSTART:20210412T083000Z
DTEND:20210412T120000Z
X-MICROSOFT-CDO-ALLDAYEVENT:FALSE
SUMMARY:Launchpad: Business Start Up Workshop (Day 1 of 3)
DESCRIPTION:Please note this workshop is for businesses who have been trading in\, or people who are looking to start a business in the Sheffield City Region and is delivered under the Launchpad  Contract. \n\n\n\nAre you looking to start your own business or have recently started trading and need support? Having attended this 3 day workshop you will understand:\n\n	What each element of a business plan requires\n	Business status\, set up and legal issues \n	How to identify your client base\n	What defines good customer care\n	Simple book-keeping and tax information\n	Sales analysis and cash flow forecasting\n	The reasons behind good business record keeping.\n\n\n\nFeedback from previous delegates:\n\n\n\n"So much useful information to start my business up"\n\n"Very good programme\, with helpful information throughout "
X-ALT-DESC;FMTTYPE=text/html:<strong>Please note this workshop is for businesses who have been trading in\, or people who are looking to start a business in the Sheffield City Region and is delivered under the Launchpad&nbsp\; Contract.&nbsp\;</strong><br />\n<br />\nAre you looking to start your own business or have recently started trading and need support? Having attended this 3 day workshop you will understand:\n<ul>\n	<li>What each element of a business plan requires</li>\n	<li>Business status\, set up and legal issues&nbsp\;</li>\n	<li>How to identify your client base</li>\n	<li>What defines good customer care</li>\n	<li>Simple book-keeping and tax information</li>\n	<li>Sales analysis and cash flow forecasting</li>\n	<li>The reasons behind good business record keeping.</li>\n</ul>\n<br />\n<strong>Feedback from previous delegates:</strong><br />\n<br />\n&ldquo\;So much useful information to start my business up&rdquo\;<br />\n&ldquo\;Very good programme\, with helpful information throughout &rdquo\;<br />\n<br />\n&nbsp\;
LOCATION:
UID:e.3320.2721
SEQUENCE:3
DTSTAMP:20260425T195923Z
URL:https://business.doncaster-chamber.co.uk/events/details/launchpad-business-start-up-workshop-day-1-of-3-2721
END:VEVENT

END:VCALENDAR
