BEGIN:VCALENDAR
VERSION:2.0
PRODID:-//ChamberMaster//Event Calendar 2.0//EN
METHOD:PUBLISH
X-PUBLISHED-TTL:P3D
REFRESH-INTERVAL:P3D
CALSCALE:GREGORIAN
BEGIN:VEVENT
DTSTART:20240807T083000Z
DTEND:20240807T113000Z
X-MICROSOFT-CDO-ALLDAYEVENT:FALSE
SUMMARY:Creating Content That Makes An Impact
DESCRIPTION:This content creation workshop is designed for business owners\, marketers and staff looking to manage their digital marketing.  This hands-on\, practical workshop will equip you with the knowledge and skills to generate exceptional digital content that resonates with your audience and makes a lasting impact online.\n\n\n\nHosted by Elliot Ghali - Example Marketing\n\n\n\nYou'll learn how to craft compelling narratives\, create visual graphics\, and engage effectively with your community through posting online.  Within this workshop\, the secrets of the algorithm will be broken down into understandable terminology to give businesses knowledge on how to captivate content that resonates with their target audience.\n\n\n\nIt will involve the following:\n\n	How to create content\n	How to post while being relevant\n	What posts perform best on the main social media platforms\n	How to write engaging and relevant copy\n\n\n\nWhat's In It For Me?\n\n\n\nThis workshop has been tailored for busy professionals.  The lessons are compact\, digestible\, and can be seamlessly integrated into your day-to-day work schedule.  By the end of this course\, you'll be able to create high-quality content consistently.\n\n\n\nWhen you leave this workshop you'll have the understanding and knowledge of creating content for/to market a business online.  This workshop's objective is to make you more valuable\, consistent and engaging through digital marketing methods.\n\n\n\nIt's a workshop that incorporates years of experience\, knowledge and successful methods for you to takeaway to apply to your digital marketing without the pressure of doing it by yourself with no support.\n\n\n\nYou can then expect to have similar results to Allister who said this after their training:\n\n\n\n"It's been an exciting year for our company.  We have not only experienced a huge increase in followers and gained new customers but more importantly sold pieces\, won awards and gained contracts.  We have some great things on the horizon and the future looks exciting.  I'm really grateful to have met and worked with Elliot" - Allister Malcolm - Founder of Allister Malcolm Glass\n\n\n\nAttend\, listen and apply to grow online from just 2 hours of learning.
X-ALT-DESC;FMTTYPE=text/html:This content creation workshop is designed for business owners\, marketers and staff looking to manage their digital marketing.&nbsp\; This hands-on\, practical workshop will equip you with the knowledge and skills to generate exceptional digital content that resonates with your audience and makes a lasting impact online.<br />\n<br />\nHosted by Elliot Ghali - Example Marketing<br />\n<br />\nYou&#39\;ll learn how to craft compelling narratives\, create visual graphics\, and engage effectively with your community through posting online.&nbsp\; Within this workshop\, the secrets of the algorithm will be broken down into understandable terminology to give businesses knowledge on how to captivate content that resonates with their target audience.<br />\n<br />\nIt will involve the following:\n<ul>\n	<li>How to create content</li>\n	<li>How to post while being relevant</li>\n	<li>What posts perform best on the main social media platforms</li>\n	<li>How to write engaging and relevant copy</li>\n</ul>\n<br />\n<strong>What&#39\;s In It For Me?</strong><br />\n<br />\nThis workshop has been tailored for busy professionals.&nbsp\; The lessons are compact\, digestible\, and can be seamlessly integrated into your day-to-day work schedule.&nbsp\; By the end of this course\, you&#39\;ll be able to create high-quality content consistently.<br />\n<br />\nWhen you leave this workshop you&#39\;ll have the understanding and knowledge of creating content for/to market a business online.&nbsp\; This workshop&#39\;s objective is to make you more valuable\, consistent and engaging through digital marketing methods.<br />\n<br />\nIt&#39\;s a workshop that incorporates years of experience\, knowledge and successful methods for you to takeaway to apply to your digital marketing without the pressure of doing it by yourself with no support.<br />\n<br />\nYou can then expect to have similar results to Allister who said this after their training:<br />\n<br />\n<em>&quot\;It&#39\;s been an exciting year for our company.&nbsp\; We have not only experienced a huge increase in followers and gained new customers but more importantly sold pieces\, won awards and gained contracts.&nbsp\; We have some great things on the horizon and the future looks exciting.&nbsp\; I&#39\;m really grateful to have met and worked with Elliot&quot\; - Allister Malcolm - Founder of Allister Malcolm Glass</em><br />\n<br />\nAttend\, listen and apply to grow online from just 2 hours of learning.
LOCATION:Flourish Enterprises St Catherine's House\, Woodfield Park Tickhill Road\, Balby Doncaster\, DN4 8QP
UID:e.3320.9344
SEQUENCE:3
DTSTAMP:20260423T222158Z
URL:https://business.doncaster-chamber.co.uk/events/details/creating-content-that-makes-an-impact-9344
END:VEVENT

END:VCALENDAR
