BEGIN:VCALENDAR
VERSION:2.0
PRODID:-//ChamberMaster//Event Calendar 2.0//EN
METHOD:PUBLISH
X-PUBLISHED-TTL:P3D
REFRESH-INTERVAL:P3D
CALSCALE:GREGORIAN
BEGIN:VEVENT
DTSTART:20260514T183000Z
DTEND:20260514T203000Z
X-MICROSOFT-CDO-ALLDAYEVENT:FALSE
SUMMARY:Cheese & Wine Pairing Evening - Badger Pantry\, The Hive\, Yorkshire Wildlife Park
DESCRIPTION:Hosted by our friends and long term suppliers of premium wines\, fizz & liqueur's\, Sheffield-based independent company Le Bon Vin will take you through a selection of three different fabulous wines\, each paired with delicious cheeses supplied by our specialist cheese providers.\n\n\n\nYou can expect a glass of fizz on arrival\, and the cheeses will be presented by way of a sharing deli tasting board (for 2). \n\n\n\nAlthough Badger Pantry is a retail shop\, seating will be provided by way of our bierkeller benches (x3 tables for up to 4 persons\, and x1 table for up to 8 persons).\n\n\n\nBookings are advised for at least 2 persons and in multiples of 2 where possible. \n\n\n\nTo book\, simply email pantry@thebadgerdoncaster.co.uk with your details\, preferred means of contact and any dietary requirements.
X-ALT-DESC;FMTTYPE=text/html:Hosted by our friends and long term suppliers of premium wines\, fizz &amp\; liqueur&#39\;s\, Sheffield-based independent company <em>Le Bon Vin</em> will take you through a selection of three different fabulous wines\, each paired with delicious cheeses supplied by our specialist cheese providers.<br />\n<br />\nYou can expect a glass of fizz on arrival\, and the cheeses will be presented by way of a sharing deli tasting board (for 2).&nbsp\;<br />\n<br />\nAlthough Badger Pantry is a retail shop\, seating will be provided by way of our bierkeller benches (x3 tables for up to 4 persons\, and x1 table for up to 8 persons).<br />\n<br />\nBookings are advised for at least 2 persons and in multiples of 2 where possible.&nbsp\;<br />\n<br />\nTo book\, simply email pantry@thebadgerdoncaster.co.uk with your details\, preferred means of contact and any dietary requirements.<br />\n<br />\n&nbsp\;
LOCATION:Badger Pantry\, The Hive\, Yorkshire Wildlife Park\, Hurst Lane\, Auckley\, Doncaster DN9 3QY (Please park in carpark 6 and not short stay\, as short stay is limited to a maximum of 2 hours parking).
UID:e.3320.11242
SEQUENCE:3
DTSTAMP:20260423T102540Z
URL:https://business.doncaster-chamber.co.uk/events/details/cheese-wine-pairing-evening-badger-pantry-the-hive-yorkshire-wildlife-park-11242
END:VEVENT

END:VCALENDAR
