BEGIN:VCALENDAR
VERSION:2.0
PRODID:-//ChamberMaster//Event Calendar 2.0//EN
METHOD:PUBLISH
X-PUBLISHED-TTL:P3D
REFRESH-INTERVAL:P3D
CALSCALE:GREGORIAN
BEGIN:VEVENT
DTSTART:20221109T090000Z
DTEND:20221109T110000Z
X-MICROSOFT-CDO-ALLDAYEVENT:FALSE
SUMMARY:Chamber Business Networking (Informal)
DESCRIPTION:The benefits of attending a Chamber networking event cannot be overstated. After all\, they offer a valuable opportunity to meet your peers\, build up your business contacts and strengthen existing relationships.\n\n \n\nOf course\, it also helps that a fun activity is usually involved. In the case of this particular networking event\, attendees will have an opportunity to demonstrate their Olympic prowess with a spot of ice-skating at the Doncaster Dome leisure centre. \n\n \n\nFor those who aren't as sure-footed on the rink\, an alternative will be offered (TBC) but everyone will still get to enjoy the refreshing breakfast.
X-ALT-DESC;FMTTYPE=text/html:The benefits of attending a Chamber networking event cannot be overstated. After all\, they offer a valuable opportunity to meet your peers\, build up your business contacts and strengthen existing relationships.<br />\n&nbsp\;<br />\nOf course\, it also helps that a fun activity is usually involved. In the case of this particular networking event\, attendees will have an opportunity to demonstrate their Olympic prowess with a spot of ice-skating at the Doncaster Dome leisure centre.&nbsp\;<br />\n&nbsp\;<br />\nFor those who aren&rsquo\;t as sure-footed on the rink\, an alternative will be offered (TBC) but everyone will still get to enjoy the refreshing breakfast.
LOCATION:The Dome Doncaster Leisure Park Bawtry Road DN4 7PD
UID:e.3320.4313
SEQUENCE:3
DTSTAMP:20260423T102451Z
URL:https://business.doncaster-chamber.co.uk/events/details/chamber-business-networking-informal-4313
END:VEVENT

END:VCALENDAR
