BEGIN:VCALENDAR
VERSION:2.0
PRODID:-//ChamberMaster//Event Calendar 2.0//EN
METHOD:PUBLISH
X-PUBLISHED-TTL:P3D
REFRESH-INTERVAL:P3D
CALSCALE:GREGORIAN
BEGIN:VEVENT
DTSTART:20240722T081500Z
DTEND:20240722T151500Z
X-MICROSOFT-CDO-ALLDAYEVENT:FALSE
SUMMARY:Business Accelerator Day 1: How can I improve my company's chance of success?
DESCRIPTION:These sessions will assist the participants in being clear about where they are starting from and where they want and what they want to achieve.\n\n\n\nThey will then identify what they need to do in order to improve the chances of success\, and measure their progression to this.\n\n\n\nIt will involve the following:\n\n \n\n\n	Understanding your own business\n	Understanding the market\n	Understanding your customers\n	Identifying what you need to do\n	Measuring the success of your development\n\n\nWhat's In It For Me?\n\n\n\nThis workshop targets any small to medium size business owner/or key influencer within a business.  Essentially anyone who can make a change.  It will benefit anyone wanting to make a significant positive impact on their company's growth.\n\n\n\nAbout the deliverers:\n\n\n\nThe Consultancy Academy Ltd is run by Chiles and Glyn Cartwright\, each taking a day of the workshop.\n\n \nGlyn Cartwight\, Glyn is also Managing Director of five companies\, primarily in construction products\, and operating in 30 countries. In addition to his extensive business experience\, Glyn undertook an MBA and completed his Doctorate in Business Growth in 2022.\n\n\n\nChiles Cartwright is a serial entrepreneur\, multiple business owner\, property developer\, Sheffield University MSC supervisor and key note speaker. Chiles has worked in a senior capacity at some of the biggest know companies including L'Oreal and Nokia. A founding member of the Guild of Entrepreneurs and a former contestant of BBC 1's 'The Apprentice'\, Chiles is passionate about supporting start-up businesses.
X-ALT-DESC;FMTTYPE=text/html:<div style="margin-bottom:0.0001pt\;line-height:normal\;">These sessions will&nbsp\;assist the participants in being clear about where they are starting from and where they want and what they want to achieve.<br />\n<br />\nThey will then identify what they need to do in order to improve the chances of success\, and measure their progression to this.<br />\n<br />\nIt will involve the following:<br />\n&nbsp\;</div>\n\n<ul>\n	<li style="margin-bottom: 0.0001pt\; line-height: normal\;">Understanding your own business</li>\n	<li style="margin-bottom: 0.0001pt\; line-height: normal\;">Understanding the market</li>\n	<li style="margin-bottom: 0.0001pt\; line-height: normal\;">Understanding your customers</li>\n	<li style="margin-bottom: 0.0001pt\; line-height: normal\;">Identifying what you need to do</li>\n	<li style="margin-bottom: 0.0001pt\; line-height: normal\;">Measuring the success of your development</li>\n</ul>\n\n<div style="margin-bottom: 0.0001pt\; line-height: normal\;"><strong>What&#39\;s In It For Me?</strong><br />\n<br />\nThis workshop targets any small to medium size business owner/or key influencer within a business.&nbsp\; Essentially anyone who can make a change.&nbsp\; It will benefit anyone wanting to make a significant positive impact on their company&#39\;s growth.<br />\n<br />\n<strong>About the deliverers:</strong><br />\n<br />\nThe Consultancy Academy Ltd is run by Chiles and Glyn Cartwright\, each taking a day of the workshop.<br />\n&nbsp\;</div>\n<em>Glyn Cartwight\, </em>Glyn is also Managing Director of five companies\, primarily in construction products\, and operating in 30 countries. In addition to his extensive business experience\, Glyn undertook an MBA and completed his Doctorate in Business Growth in 2022.<br />\n<br />\n<em>Chiles Cartwright</em>&nbsp\;is a serial entrepreneur\, multiple business owner\, property developer\, Sheffield University MSC supervisor and key note speaker. Chiles has worked in a senior capacity at some of the biggest know companies including L&#39\;Oreal and Nokia. A founding member of the Guild of Entrepreneurs and a former contestant of BBC 1&#39\;s &#39\;The Apprentice&#39\;\, Chiles is passionate about supporting start-up businesses.<br />\n&nbsp\;
LOCATION:The workshop will be delivered via Microsoft Teams. Please ensure you are registered with Teams so you can access the workshop.
UID:e.3320.9162
SEQUENCE:3
DTSTAMP:20260425T154841Z
URL:https://business.doncaster-chamber.co.uk/events/details/business-accelerator-day-1-how-can-i-improve-my-company-s-chance-of-success-9162
END:VEVENT

END:VCALENDAR
