BEGIN:VCALENDAR
VERSION:2.0
PRODID:-//ChamberMaster//Event Calendar 2.0//EN
METHOD:PUBLISH
X-PUBLISHED-TTL:P3D
REFRESH-INTERVAL:P3D
CALSCALE:GREGORIAN
BEGIN:VEVENT
DTSTART:20260508T170000Z
DTEND:20260508T220000Z
X-MICROSOFT-CDO-ALLDAYEVENT:FALSE
SUMMARY:Aurora Fashion Show 2026
DESCRIPTION:Friday 8 May\n\nThe Dome\n\nThe Inspirational Aurora Fashion Show returns for one night only\, bringing an unforgettable evening of fashion\, fun and live entertainment in support of Aurora Wellbeing.\n\nExpect a sensational night featuring a runway fashion show\, karaoke classics and fantastic live performances\, all while raising vital funds to support local people and families affected by cancer. ??\n\nDoors open: 6.00pm\n\nShow starts: 7.00pm\n\nJoin us for a night to remember in support of your local wellbeing charity.
X-ALT-DESC;FMTTYPE=text/html:<p><strong>Friday 8 May</strong><br />\n<strong>The Dome</strong></p>\n\n<p>The Inspirational Aurora Fashion Show returns for one night only\, bringing an unforgettable evening of fashion\, fun and live entertainment in support of Aurora Wellbeing.</p>\n\n<p>Expect a sensational night featuring a runway fashion show\, karaoke classics and fantastic live performances\, all while raising vital funds to support local people and families affected by cancer. ??</p>\n\n<p>Doors open: 6.00pm<br />\nShow starts: 7.00pm</p>\n\n<p>Join us for a night to remember in support of your local wellbeing charity.</p>\n
LOCATION:The Doncaster Dome
UID:e.3320.12360
SEQUENCE:3
DTSTAMP:20260421T133546Z
URL:https://business.doncaster-chamber.co.uk/events/details/aurora-fashion-show-2026-12360
END:VEVENT

END:VCALENDAR
