BEGIN:VCALENDAR
VERSION:2.0
PRODID:-//ChamberMaster//Event Calendar 2.0//EN
METHOD:PUBLISH
X-PUBLISHED-TTL:P3D
REFRESH-INTERVAL:P3D
CALSCALE:GREGORIAN
BEGIN:VEVENT
DTSTART:20260502T170000Z
DTEND:20260502T210000Z
X-MICROSOFT-CDO-ALLDAYEVENT:FALSE
SUMMARY:An Evening with Group Captain Barry Smith of Black Buck 4\, 5 & 6 - Wombwell Playhouse Theatre\, Wombwell
DESCRIPTION:LESS THAN 50 TICKETS REMAINING\n\n \n\n\n\nThe Falklands Conflict with Group Captain Barry Smith OBE\n\n \n\n\n\nJoin us for an evening of daring and heroic true stories at our special Falklands Conflict event.\n\n\n\nHear stories of Group Captain Barry Smith OBE and watch 'Britain's Most Daring Raid'\, the documentary celebrating the first air engagement of the war\; Black Buck One.\n\n \n\n\n\nVenue: Wombwell Playhouse Theatre\, Wombwell\, Barnsley\, S73 0HF\n\n \n\n\n\nParking available in the small car park at the top of Mayflower Way near to the theatre and another large car park in George Steet/Summer Lane (only a 5 min walk) both are free.\n\n \n\n\n\nEvent Date: Saturday 02 May 2026\n\n \n\n\n\nDoors Open: 18.00\n\n \n\n\n\nTickets Available Here: https://vulcantothesky.org/.../event-the-falklands.../
X-ALT-DESC;FMTTYPE=text/html:<div>\n<div>LESS THAN 50 TICKETS REMAINING<br />\n&nbsp\;</div>\n</div>\n\n<div>\n<div>The Falklands Conflict with Group Captain Barry Smith OBE<br />\n&nbsp\;</div>\n</div>\n\n<div>\n<div>Join us for an evening of daring and heroic true stories at our special Falklands Conflict event.</div>\n</div>\n\n<div>\n<div>Hear stories of Group Captain Barry Smith OBE and watch &#39\;Britain&rsquo\;s Most Daring Raid&#39\;\, the documentary celebrating the first air engagement of the war\; Black Buck One.<br />\n&nbsp\;</div>\n</div>\n\n<div>\n<div>Venue: Wombwell Playhouse Theatre\, Wombwell\, Barnsley\, S73 0HF<br />\n&nbsp\;</div>\n</div>\n\n<div>\n<div>Parking available in the small car park at the top of Mayflower Way near to the theatre and another large car park in George Steet/Summer Lane (only a 5 min walk) both are free.<br />\n&nbsp\;</div>\n</div>\n\n<div>\n<div>Event Date: Saturday 02 May 2026<br />\n&nbsp\;</div>\n</div>\n\n<div>\n<div>Doors Open: 18.00<br />\n&nbsp\;</div>\n</div>\n\n<div>\n<div>Tickets Available Here: <span style="font-family:inherit"><a class="x1i10hfl xjbqb8w x1ejq31n x18oe1m7 x1sy0etr xstzfhl x972fbf x10w94by x1qhh985 x14e42zd x9f619 x1ypdohk xt0psk2 x3ct3a4 xdj266r x14z9mp xat24cr x1lziwak xexx8yu xyri2b x18d9i69 x1c1uobl x16tdsg8 x1hl2dhg xggy1nq x1a2a7pz xkrqix3 x1sur9pj x1fey0fg x1s688f" href="https://vulcantothesky.org/product/event-the-falklands-conflict-barry-smith/" rel="nofollow noreferrer" style="color: rgb(0\, 100\, 209)\; cursor: pointer\; text-decoration: none\; outline: none\; text-align: inherit\; font-weight: 600\; list-style-type: none\; box-sizing: border-box\; background-color: transparent\; display: inline\; -webkit-tap-highlight-color: transparent\; touch-action: manipulation\; border-inline-style: none\; border-top-style: none\; border-bottom-style: none\; border-inline-width: 0px\; margin-inline: 0px\; padding-inline: 0px\; padding-bottom: 0px\; border-bottom-width: 0px\; border-top-width: 0px\; margin-bottom: 0px\; margin-top: 0px\; padding-top: 0px\; font-family: inherit\;" tabindex="0" target="_blank">https://vulcantothesky.org/.../event-the-falklands.../</a></span></div>\n</div>\n
LOCATION:Venue: Wombwell Playhouse Theatre\, Wombwell\, Barnsley\, S73 0HF Parking available in the small car park at the top of Mayflower Way near to the theatre and another large car park in George Steet/Summer Lane (only a 5 min walk) both are free.
UID:e.3320.12363
SEQUENCE:3
DTSTAMP:20260425T111609Z
URL:https://business.doncaster-chamber.co.uk/events/details/an-evening-with-group-captain-barry-smith-of-black-buck-4-5-6-wombwell-playhouse-theatre-wombwell-12363
END:VEVENT

END:VCALENDAR
